BEGIN:VCALENDAR
VERSION:2.0
PRODID:-//Atelier-punkt21 - ECPv6.15.13.1//NONSGML v1.0//EN
CALSCALE:GREGORIAN
METHOD:PUBLISH
X-WR-CALNAME:Atelier-punkt21
X-ORIGINAL-URL:https://atelier-punkt21.de
X-WR-CALDESC:Veranstaltungen für Atelier-punkt21
REFRESH-INTERVAL;VALUE=DURATION:PT1H
X-Robots-Tag:noindex
X-PUBLISHED-TTL:PT1H
BEGIN:VTIMEZONE
TZID:UTC
BEGIN:STANDARD
TZOFFSETFROM:+0000
TZOFFSETTO:+0000
TZNAME:UTC
DTSTART:20240101T000000
END:STANDARD
END:VTIMEZONE
BEGIN:VEVENT
DTSTART;TZID=UTC:20251108T150000
DTEND;TZID=UTC:20251108T180000
DTSTAMP:20260420T141809
CREATED:20250924T091836Z
LAST-MODIFIED:20250924T091836Z
UID:2683-1762614000-1762624800@atelier-punkt21.de
SUMMARY:Spielenachmittag
DESCRIPTION:Bringe gerne dein Lieblingsspiel mit!\nMit Madalena Csizmazia und Stefanie Ario
URL:https://atelier-punkt21.de/event/spielenachmittag/
LOCATION:Atelier punkt21\, Stephanienstraße 21\, Karlsruhe\, 76133\, Deutschland
END:VEVENT
BEGIN:VEVENT
DTSTART;TZID=UTC:20251109T110000
DTEND;TZID=UTC:20251109T130000
DTSTAMP:20260420T141809
CREATED:20250924T091934Z
LAST-MODIFIED:20250924T092429Z
UID:2685-1762686000-1762693200@atelier-punkt21.de
SUMMARY:Finissage Werkschau
DESCRIPTION:Musikalischer Auftakt\, Bildbetrachtungen
URL:https://atelier-punkt21.de/event/finissage-werkschau/
LOCATION:Atelier punkt21\, Stephanienstraße 21\, Karlsruhe\, 76133\, Deutschland
END:VEVENT
BEGIN:VEVENT
DTSTART;TZID=UTC:20251115T160000
DTEND;TZID=UTC:20251115T180000
DTSTAMP:20260420T141809
CREATED:20250924T092033Z
LAST-MODIFIED:20250924T092033Z
UID:2687-1763222400-1763229600@atelier-punkt21.de
SUMMARY:Die Welt der schönen Bücher
DESCRIPTION:Eine Gelegenheit\, um über unsere Lieblingsbücher zu sprechen\nmit Irmgard Tauss
URL:https://atelier-punkt21.de/event/die-welt-der-schoenen-buecher-2/
LOCATION:Atelier punkt21\, Stephanienstraße 21\, Karlsruhe\, 76133\, Deutschland
END:VEVENT
BEGIN:VEVENT
DTSTART;TZID=UTC:20251129T150000
DTEND;TZID=UTC:20251129T180000
DTSTAMP:20260420T141809
CREATED:20250924T092136Z
LAST-MODIFIED:20250924T092136Z
UID:2689-1764428400-1764439200@atelier-punkt21.de
SUMMARY:Ausstellungsbesuch  Staatsgalerie Stuttgart
DESCRIPTION:„Überfluss – Klingendes Papier“\nmit Julia Habich\, um Anmeldung wird gebeten.
URL:https://atelier-punkt21.de/event/ausstellungsbesuch-staatsgalerie-stuttgart/
LOCATION:Atelier punkt21\, Stephanienstraße 21\, Karlsruhe\, 76133\, Deutschland
END:VEVENT
END:VCALENDAR