BEGIN:VCALENDAR
VERSION:2.0
PRODID:-//Atelier-punkt21 - ECPv6.15.13.1//NONSGML v1.0//EN
CALSCALE:GREGORIAN
METHOD:PUBLISH
X-ORIGINAL-URL:https://atelier-punkt21.de
X-WR-CALDESC:Veranstaltungen für Atelier-punkt21
REFRESH-INTERVAL;VALUE=DURATION:PT1H
X-Robots-Tag:noindex
X-PUBLISHED-TTL:PT1H
BEGIN:VTIMEZONE
TZID:UTC
BEGIN:STANDARD
TZOFFSETFROM:+0000
TZOFFSETTO:+0000
TZNAME:UTC
DTSTART:20240101T000000
END:STANDARD
END:VTIMEZONE
BEGIN:VEVENT
DTSTART;TZID=UTC:20251008T090000
DTEND;TZID=UTC:20251008T100000
DTSTAMP:20260420T154431
CREATED:20250924T091254Z
LAST-MODIFIED:20250924T091254Z
UID:2669-1759914000-1759917600@atelier-punkt21.de
SUMMARY:Farbmeditation  Herbstfarben
DESCRIPTION:mit Farbe erfüllt in den Tag\nmit Stefanie Ario\nBeitrag: 15\,00 Euro / Termin
URL:https://atelier-punkt21.de/event/farbmeditation-herbstfarben/
LOCATION:Atelier punkt21\, Stephanienstraße 21\, Karlsruhe\, 76133\, Deutschland
END:VEVENT
BEGIN:VEVENT
DTSTART;TZID=UTC:20251015T090000
DTEND;TZID=UTC:20251015T100000
DTSTAMP:20260420T154431
CREATED:20250924T091540Z
LAST-MODIFIED:20250924T092353Z
UID:2677-1760518800-1760522400@atelier-punkt21.de
SUMMARY:Farbmeditation Herbstfarben
DESCRIPTION:mit Farbe erfüllt in den Tag\nmit Stefanie Ario\nBeitrag: 15\,00 Euro / Termin
URL:https://atelier-punkt21.de/event/farbmeditation-herbstfarben-3/
LOCATION:Atelier punkt21\, Stephanienstraße 21\, Karlsruhe\, 76133\, Deutschland
END:VEVENT
BEGIN:VEVENT
DTSTART;TZID=UTC:20251018T150000
DTEND;TZID=UTC:20251018T170000
DTSTAMP:20260420T154431
CREATED:20250924T091642Z
LAST-MODIFIED:20250924T091642Z
UID:2679-1760799600-1760806800@atelier-punkt21.de
SUMMARY:Wie machen wir Frieden?
DESCRIPTION:Übungen dazu mit Irmgard Tauss und Rainer Csizmazia
URL:https://atelier-punkt21.de/event/wie-machen-wir-frieden/
LOCATION:Atelier punkt21\, Stephanienstraße 21\, Karlsruhe\, 76133\, Deutschland
END:VEVENT
BEGIN:VEVENT
DTSTART;TZID=UTC:20251022T090000
DTEND;TZID=UTC:20251022T100000
DTSTAMP:20260420T154431
CREATED:20250924T091432Z
LAST-MODIFIED:20250924T091432Z
UID:2675-1761123600-1761127200@atelier-punkt21.de
SUMMARY:Farbmeditation  Herbstfarben
DESCRIPTION:mit Farbe erfüllt in den Tag\nmit Stefanie Ario\nBeitrag: 15\,00 Euro / Termin
URL:https://atelier-punkt21.de/event/farbmeditation-herbstfarben-2/
LOCATION:Atelier punkt21\, Stephanienstraße 21\, Karlsruhe\, 76133\, Deutschland
END:VEVENT
BEGIN:VEVENT
DTSTART;TZID=UTC:20251030T193000
DTEND;TZID=UTC:20251030T213000
DTSTAMP:20260420T154431
CREATED:20250924T091750Z
LAST-MODIFIED:20251023T193644Z
UID:2681-1761852600-1761859800@atelier-punkt21.de
SUMMARY:„Ein Blick voraus“ Konzert
DESCRIPTION:Mariana Zwarg\, Flöte & Johannes von Ballestrem\, Klavier \nIn ihrer Musik vereinen die Flötistin Mariana Zwarg und der Berliner Jazzpianist\nJohannes von Ballestrem Einflüsse aus brasilianischer Musik und Jazz.\nEintritt frei\, um einen Beitrag nach Ermessen wird gebeten \nEinladung Konzert 20.10.2025_1\nMariana Zwarg (BR) – Flöte\nJohannes von Ballestrem (DE) – Piano\nBeeindruckende Virtuosität und kammermusikalische Intensität sind\nMarkenzeichen dieses\ntransatlanischen Duos. Auf ihrem Debütalbum „ tightrope dancer“ (2023)\ngehen Mariana\nZwarg\, Flötistin aus Rio de Janeiro\, und der Berliner Pianist Johannes\nvon Ballestrem eine\nfaszinierende Symbiose ein. Der rhythmische und harmonische Reichtum\nbrasilianischer\nMusik prägt ihren Sound ebenso wie feinsinniges Zusammenspiel und\nIntimität in der\nImprovisation. \nHier ein paar Kostproben: \n \n 
URL:https://atelier-punkt21.de/event/konzert/
LOCATION:Atelier punkt21\, Stephanienstraße 21\, Karlsruhe\, 76133\, Deutschland
END:VEVENT
END:VCALENDAR