BEGIN:VCALENDAR
VERSION:2.0
PRODID:-//Atelier-punkt21 - ECPv6.15.13.1//NONSGML v1.0//EN
CALSCALE:GREGORIAN
METHOD:PUBLISH
X-WR-CALNAME:Atelier-punkt21
X-ORIGINAL-URL:https://atelier-punkt21.de
X-WR-CALDESC:Veranstaltungen für Atelier-punkt21
REFRESH-INTERVAL;VALUE=DURATION:PT1H
X-Robots-Tag:noindex
X-PUBLISHED-TTL:PT1H
BEGIN:VTIMEZONE
TZID:UTC
BEGIN:STANDARD
TZOFFSETFROM:+0000
TZOFFSETTO:+0000
TZNAME:UTC
DTSTART:20240101T000000
END:STANDARD
END:VTIMEZONE
BEGIN:VEVENT
DTSTART;TZID=UTC:20250713T110000
DTEND;TZID=UTC:20250713T130000
DTSTAMP:20260422T112246
CREATED:20250511T091930Z
LAST-MODIFIED:20250511T091930Z
UID:2614-1752404400-1752411600@atelier-punkt21.de
SUMMARY:Finissage „unterwegs“
DESCRIPTION:Ausklang mit Bildbetrachtungen
URL:https://atelier-punkt21.de/event/finissage-unterwegs/
END:VEVENT
BEGIN:VEVENT
DTSTART;TZID=UTC:20250724T193000
DTEND;TZID=UTC:20250724T213000
DTSTAMP:20260422T112246
CREATED:20250714T181603Z
LAST-MODIFIED:20250714T181603Z
UID:2660-1753385400-1753392600@atelier-punkt21.de
SUMMARY:Konzertabend: Gitarre Solo – Antonio Malinconico
DESCRIPTION: 
URL:https://atelier-punkt21.de/event/konzertabend-gitarre-solo-antonio-malinconico/
LOCATION:Atelier punkt21\, Stephanienstraße 21\, Karlsruhe\, 76133\, Deutschland
END:VEVENT
BEGIN:VEVENT
DTSTART;TZID=UTC:20250726T160000
DTEND;TZID=UTC:20250726T180000
DTSTAMP:20260422T112246
CREATED:20250511T092024Z
LAST-MODIFIED:20250511T092306Z
UID:2616-1753545600-1753552800@atelier-punkt21.de
SUMMARY:Die Welt der schönen Bücher
DESCRIPTION:Eine Gelegenheit\, um über unsere Lieblingsbücher zu sprechen mit Irmgard Tauss
URL:https://atelier-punkt21.de/event/die-welt-der-schoenen-buecher/
LOCATION:Atelier punkt21\, Stephanienstraße 21\, Karlsruhe\, 76133\, Deutschland
END:VEVENT
BEGIN:VEVENT
DTSTART;TZID=UTC:20250728T090000
DTEND;TZID=UTC:20250801T100000
DTSTAMP:20260422T112246
CREATED:20250511T092151Z
LAST-MODIFIED:20250511T092440Z
UID:2618-1753693200-1754042400@atelier-punkt21.de
SUMMARY:Farbmeditation
DESCRIPTION:Vom 28. Juli – 01. August 09:00-10:00 \nmit Farbe erfüllt in den Tag mit Stefanie Ario
URL:https://atelier-punkt21.de/event/farbmeditation/
LOCATION:Atelier punkt21\, Stephanienstraße 21\, Karlsruhe\, 76133\, Deutschland
END:VEVENT
END:VCALENDAR