BEGIN:VCALENDAR
VERSION:2.0
PRODID:-//Atelier-punkt21 - ECPv6.15.13.1//NONSGML v1.0//EN
CALSCALE:GREGORIAN
METHOD:PUBLISH
X-WR-CALNAME:Atelier-punkt21
X-ORIGINAL-URL:https://atelier-punkt21.de
X-WR-CALDESC:Veranstaltungen für Atelier-punkt21
REFRESH-INTERVAL;VALUE=DURATION:PT1H
X-Robots-Tag:noindex
X-PUBLISHED-TTL:PT1H
BEGIN:VTIMEZONE
TZID:UTC
BEGIN:STANDARD
TZOFFSETFROM:+0000
TZOFFSETTO:+0000
TZNAME:UTC
DTSTART:20240101T000000
END:STANDARD
END:VTIMEZONE
BEGIN:VEVENT
DTSTART;TZID=UTC:20250525T110000
DTEND;TZID=UTC:20250525T170000
DTSTAMP:20260424T093120
CREATED:20250511T091523Z
LAST-MODIFIED:20250511T110221Z
UID:2605-1748170800-1748192400@atelier-punkt21.de
SUMMARY:WERKSCHAU UNTERWEGS – WERKE AUS 3 JAHRZENTEN
DESCRIPTION:Malerei – Graphik – Objekte – Reisebücher
URL:https://atelier-punkt21.de/event/werkschau-unterwegs-werke-aus-3-jahrzenten/
LOCATION:Atelier punkt21\, Stephanienstraße 21\, Karlsruhe\, 76133\, Deutschland
END:VEVENT
END:VCALENDAR