BEGIN:VCALENDAR
VERSION:2.0
PRODID:-//Atelier-punkt21 - ECPv6.15.13.1//NONSGML v1.0//EN
CALSCALE:GREGORIAN
METHOD:PUBLISH
X-ORIGINAL-URL:https://atelier-punkt21.de
X-WR-CALDESC:Veranstaltungen für Atelier-punkt21
REFRESH-INTERVAL;VALUE=DURATION:PT1H
X-Robots-Tag:noindex
X-PUBLISHED-TTL:PT1H
BEGIN:VTIMEZONE
TZID:UTC
BEGIN:STANDARD
TZOFFSETFROM:+0000
TZOFFSETTO:+0000
TZNAME:UTC
DTSTART:20250101T000000
END:STANDARD
END:VTIMEZONE
BEGIN:VEVENT
DTSTART;TZID=UTC:20260321T160000
DTEND;TZID=UTC:20260321T180000
DTSTAMP:20260420T104319
CREATED:20260123T182937Z
LAST-MODIFIED:20260123T182937Z
UID:2768-1774108800-1774116000@atelier-punkt21.de
SUMMARY:„Wie das handy unser Leben verändert“ Gespräch
DESCRIPTION:mit Irmgard Tauss
URL:https://atelier-punkt21.de/event/wie-das-handy-unser-leben-veraendert-gespraech/
LOCATION:Atelier punkt21\, Stephanienstraße 21\, Karlsruhe\, 76133\, Deutschland
END:VEVENT
END:VCALENDAR