BEGIN:VCALENDAR
VERSION:2.0
PRODID:-//Atelier-punkt21 - ECPv6.15.13.1//NONSGML v1.0//EN
CALSCALE:GREGORIAN
METHOD:PUBLISH
X-ORIGINAL-URL:https://atelier-punkt21.de
X-WR-CALDESC:Veranstaltungen für Atelier-punkt21
REFRESH-INTERVAL;VALUE=DURATION:PT1H
X-Robots-Tag:noindex
X-PUBLISHED-TTL:PT1H
BEGIN:VTIMEZONE
TZID:UTC
BEGIN:STANDARD
TZOFFSETFROM:+0000
TZOFFSETTO:+0000
TZNAME:UTC
DTSTART:20250101T000000
END:STANDARD
END:VTIMEZONE
BEGIN:VEVENT
DTSTART;TZID=UTC:20260124T150000
DTEND;TZID=UTC:20260124T180000
DTSTAMP:20260420T131426
CREATED:20260123T181246Z
LAST-MODIFIED:20260123T181246Z
UID:2740-1769266800-1769277600@atelier-punkt21.de
SUMMARY:Ausstellungsbesuch Frieder Burda Museum Baden – Baden
DESCRIPTION:Impressionismus in Deutschland\, Max Liebermann und seine Zeit\nmit Julia Habich\, um Anmeldung wird gebeten
URL:https://atelier-punkt21.de/event/ausstellungsbesuch-frieder-burda-museum-baden-baden/
END:VEVENT
END:VCALENDAR